BEGIN:VCALENDAR
VERSION:2.0
PRODID:Feira mensal da Terrugem
X-WR-CALNAME:Feira mensal da Terrugem
X-WR-TIMEZONE:Europe/Lisbon
X-PUBLISHED-TTL:P1W
BEGIN:VTIMEZONE
TZID:Europe/Lisbon
X-LIC-LOCATION:Europe/Lisbon
END:VTIMEZONE
BEGIN:VEVENT
UID:69e7836854e2a
DTSTART;VALUE=DATE:20260329
SEQUENCE:0
TRANSP:OPAQUE
DTEND;VALUE=DATE:20260330
SUMMARY:Feira mensal da Terrugem
CLASS:PUBLIC
DESCRIPTION:Feira mensal da Terrugem 
X-MICROSOFT-CDO-ALLDAYEVENT:TRUE
DTSTAMP:20260421T140216Z
END:VEVENT
END:VCALENDAR