BEGIN:VCALENDAR
VERSION:2.0
PRODID:HIKMA- FEIRA DE EMPREGO
X-WR-CALNAME:HIKMA- FEIRA DE EMPREGO
X-WR-TIMEZONE:Europe/Lisbon
X-PUBLISHED-TTL:P1W
BEGIN:VTIMEZONE
TZID:Europe/Lisbon
X-LIC-LOCATION:Europe/Lisbon
END:VTIMEZONE
BEGIN:VEVENT
UID:69e785162f7b5
DTSTART;VALUE=DATE:20260326
SEQUENCE:0
TRANSP:OPAQUE
DTEND;VALUE=DATE:20260327
SUMMARY:HIKMA- FEIRA DE EMPREGO
CLASS:PUBLIC
DESCRIPTION:HIKMA FEIRA DE EMPREGO
X-MICROSOFT-CDO-ALLDAYEVENT:TRUE
DTSTAMP:20260421T140926Z
END:VEVENT
END:VCALENDAR