BEGIN:VCALENDAR
VERSION:2.0
PRODID:Reunião pública do Executivo 
X-WR-CALNAME:Reunião pública do Executivo 
X-WR-TIMEZONE:Europe/Lisbon
X-PUBLISHED-TTL:P1W
BEGIN:VTIMEZONE
TZID:Europe/Lisbon
X-LIC-LOCATION:Europe/Lisbon
END:VTIMEZONE
BEGIN:VEVENT
UID:69e75e881e55d
DTSTART;VALUE=DATE:20260218
SEQUENCE:0
TRANSP:OPAQUE
DTEND;VALUE=DATE:20260219
SUMMARY:Reunião pública do Executivo 
CLASS:PUBLIC
DESCRIPTION:Reunião pública do Executivo 
X-MICROSOFT-CDO-ALLDAYEVENT:TRUE
DTSTAMP:20260421T112456Z
END:VEVENT
END:VCALENDAR