BEGIN:VCALENDAR
VERSION:2.0
PRODID:Cartas de amor à minha terra
X-WR-CALNAME:Cartas de amor à minha terra
X-WR-TIMEZONE:Europe/Lisbon
X-PUBLISHED-TTL:P1W
BEGIN:VTIMEZONE
TZID:Europe/Lisbon
X-LIC-LOCATION:Europe/Lisbon
END:VTIMEZONE
BEGIN:VEVENT
UID:69e75cb5b361e
DTSTART;VALUE=DATE:20260205
SEQUENCE:0
TRANSP:OPAQUE
DTEND;VALUE=DATE:20260206
SUMMARY:Cartas de amor à minha terra
CLASS:PUBLIC
DESCRIPTION:A nossa terra é feita de histórias\, memórias e afectos. De 
 pessoas que a vivem\, a cuidam e a constroem todos os dias.Convidamos todo
 s os fregueses a participar na iniciativa  Cartas de amor à minha terra 
 e a escrever algumas palavras sobre a sua aldeia ou sobre a freguesia.Por 
 exemplo: o que significa para si\, o que a distingue\, o que quer preserva
 r para o futuro\, o que mais gosta\, etc.Não precisa de escrever “bem
 ”.Basta escrever com verdade. ✍️ Envie a sua carta até dia 14 de fe
 vereiro para executivo@jf-terrugem.pt ou entregue em mão na sede da Junt
 a de FreguesiaAs cartas farão parte de uma memória colectiva da nossa te
 rra — escrita por quem a sente e a vive.Serão expostas no rés-do-chão
  da sede da Junta e publicadas nas redes sociais. Um gesto simples. Um leg
 ado para o futuro.
X-MICROSOFT-CDO-ALLDAYEVENT:TRUE
DTSTAMP:20260421T111709Z
END:VEVENT
END:VCALENDAR