BEGIN:VCALENDAR
VERSION:2.0
PRODID:Primeira sessão ordinária da assembleia de freguesia
X-WR-CALNAME:Primeira sessão ordinária da assembleia de freguesia
X-WR-TIMEZONE:Europe/Lisbon
X-PUBLISHED-TTL:P1W
BEGIN:VTIMEZONE
TZID:Europe/Lisbon
X-LIC-LOCATION:Europe/Lisbon
END:VTIMEZONE
BEGIN:VEVENT
UID:69e7857983b08
DTSTART;VALUE=DATE:20260401
SEQUENCE:0
TRANSP:OPAQUE
DTEND;VALUE=DATE:20260402
SUMMARY:Primeira sessão ordinária da assembleia de freguesia
CLASS:PUBLIC
DESCRIPTION:Primeira sessão ordinária da assembleia de freguesia
X-MICROSOFT-CDO-ALLDAYEVENT:TRUE
DTSTAMP:20260421T141105Z
END:VEVENT
END:VCALENDAR